BEGIN:VCALENDAR
VERSION:2.0
PRODID:-//Szkoła Zarządzania Zmianą - ECPv6.11.2.1//NONSGML v1.0//EN
CALSCALE:GREGORIAN
METHOD:PUBLISH
X-ORIGINAL-URL:https://zmiana.edu.pl
X-WR-CALDESC:Events for Szkoła Zarządzania Zmianą
REFRESH-INTERVAL;VALUE=DURATION:PT1H
X-Robots-Tag:noindex
X-PUBLISHED-TTL:PT1H
BEGIN:VTIMEZONE
TZID:Europe/Warsaw
BEGIN:DAYLIGHT
TZOFFSETFROM:+0100
TZOFFSETTO:+0200
TZNAME:CEST
DTSTART:20210328T010000
END:DAYLIGHT
BEGIN:STANDARD
TZOFFSETFROM:+0200
TZOFFSETTO:+0100
TZNAME:CET
DTSTART:20211031T010000
END:STANDARD
END:VTIMEZONE
BEGIN:VEVENT
DTSTART;TZID=Europe/Warsaw:20211125T090000
DTEND;TZID=Europe/Warsaw:20211126T160000
DTSTAMP:20260421T102147
CREATED:20210719T063545Z
LAST-MODIFIED:20210719T063545Z
UID:4841-1637830800-1637942400@zmiana.edu.pl
SUMMARY:Zwinna diagnoza sytuacji - Warsztat Wglądu [warsztat online]
DESCRIPTION:[portfolio category=zdswwo]\n[wg_event_portfolio_btn_new current=1 cena=1875]
URL:https://zmiana.edu.pl/event/zwinna-diagnoza-sytuacji-warsztat-wgladu-warsztat-online-3/
LOCATION:online\, Online\, Polska
CATEGORIES:zdswwo
ORGANIZER;CN="Szko%C5%82a Zarz%C4%85dzania Zmian%C4%85":MAILTO:kontakt@zmiana.edu.pl
END:VEVENT
BEGIN:VEVENT
DTSTART;TZID=Europe/Warsaw:20210513T090000
DTEND;TZID=Europe/Warsaw:20210514T160000
DTSTAMP:20260421T102147
CREATED:20201228T143354Z
LAST-MODIFIED:20210312T083055Z
UID:4489-1620896400-1621008000@zmiana.edu.pl
SUMMARY:Zwinna diagnoza sytuacji - Warsztat Wglądu [warsztat online]
DESCRIPTION:[portfolio category=zdswwo]\n[wg_event_portfolio_btn_new current=1 cena=1875]
URL:https://zmiana.edu.pl/event/zwinna-diagnoza-sytuacji-warsztat-wgladu-warsztat-online-2/
LOCATION:online\, Online\, Polska
CATEGORIES:zdswwo
ORGANIZER;CN="Szko%C5%82a Zarz%C4%85dzania Zmian%C4%85":MAILTO:kontakt@zmiana.edu.pl
END:VEVENT
BEGIN:VEVENT
DTSTART;TZID=Europe/Warsaw:20210208T090000
DTEND;TZID=Europe/Warsaw:20210209T160000
DTSTAMP:20260421T102147
CREATED:20201228T141659Z
LAST-MODIFIED:20201228T141659Z
UID:4483-1612774800-1612886400@zmiana.edu.pl
SUMMARY:Zwinna diagnoza sytuacji - Warsztat Wglądu [warsztat online]
DESCRIPTION:[portfolio category=zdswwo]\n[wg_event_portfolio_btn_new current=1 cena=1450]
URL:https://zmiana.edu.pl/event/zwinna-diagnoza-sytuacji-warsztat-wgladu-warsztat-online/
LOCATION:online\, Online\, Polska
CATEGORIES:zdswwo
ORGANIZER;CN="Szko%C5%82a Zarz%C4%85dzania Zmian%C4%85":MAILTO:kontakt@zmiana.edu.pl
END:VEVENT
END:VCALENDAR