BEGIN:VCALENDAR
VERSION:2.0
PRODID:-//Szkoła Zarządzania Zmianą - ECPv6.11.2.1//NONSGML v1.0//EN
CALSCALE:GREGORIAN
METHOD:PUBLISH
X-ORIGINAL-URL:https://zmiana.edu.pl
X-WR-CALDESC:Events for Szkoła Zarządzania Zmianą
REFRESH-INTERVAL;VALUE=DURATION:PT1H
X-Robots-Tag:noindex
X-PUBLISHED-TTL:PT1H
BEGIN:VTIMEZONE
TZID:Europe/Warsaw
BEGIN:DAYLIGHT
TZOFFSETFROM:+0100
TZOFFSETTO:+0200
TZNAME:CEST
DTSTART:20190331T010000
END:DAYLIGHT
BEGIN:STANDARD
TZOFFSETFROM:+0200
TZOFFSETTO:+0100
TZNAME:CET
DTSTART:20191027T010000
END:STANDARD
END:VTIMEZONE
BEGIN:VEVENT
DTSTART;TZID=Europe/Warsaw:20191017T090000
DTEND;TZID=Europe/Warsaw:20191018T170000
DTSTAMP:20260421T102545
CREATED:20190628T070337Z
LAST-MODIFIED:20190628T070427Z
UID:3398-1571302800-1571418000@zmiana.edu.pl
SUMMARY:Czy dostrzegamy zmiany - Warsztat Wglądu
DESCRIPTION:[portfolio category=cdz-ww]\n[wg_event_portfolio_btn_new current=1 cena=1580]
URL:https://zmiana.edu.pl/event/czy-dostrzegamy-zmiany-warsztat-wgladu-2/
LOCATION:Określone w terminie późniejszym – Gdańsk\, Gdańsk
CATEGORIES:cdz-ww
ORGANIZER;CN="Szko%C5%82a Zarz%C4%85dzania Zmian%C4%85":MAILTO:kontakt@zmiana.edu.pl
END:VEVENT
BEGIN:VEVENT
DTSTART;TZID=Europe/Warsaw:20190729T090000
DTEND;TZID=Europe/Warsaw:20190730T170000
DTSTAMP:20260421T102545
CREATED:20190628T070033Z
LAST-MODIFIED:20190628T070033Z
UID:3396-1564390800-1564506000@zmiana.edu.pl
SUMMARY:Czy dostrzegamy zmiany - Warsztat Wglądu
DESCRIPTION:[portfolio category=cdz-ww]\n[wg_event_portfolio_btn_new current=1 cena=1580]
URL:https://zmiana.edu.pl/event/czy-dostrzegamy-zmiany-warsztat-wgladu/
LOCATION:Określone w późniejszym terminie – Wrocław\, Wrocław\, Polska
CATEGORIES:cdz-ww
ORGANIZER;CN="Szko%C5%82a Zarz%C4%85dzania Zmian%C4%85":MAILTO:kontakt@zmiana.edu.pl
END:VEVENT
END:VCALENDAR